BEGIN:VCALENDAR
VERSION:2.0
PRODID:-//eventon.com NONSGML v1.0//EN
BEGIN:VEVENT
UID:69e7351366fe7
DTSTAMP:20260421T102803
DTSTART:20211115T010000Z
DTEND:20211115T050000Z
TZID:Pacific/Midway
LOCATION:
SUMMARY:Farsdag
DESCRIPTION: Vi feirer farsdagen\,  og har denne dagen koldtbord med kaker og kaffe på dessertmenyen. bordbestilling til 48089907 eller post@gravbergetgaard.no Bordsetting kl 14:00 og kl 16:00
URL:https://gravbergetgaard.no/events/farsdag/
END:VEVENT
END:VCALENDAR